BEGIN:VCALENDAR
VERSION:2.0
PRODID:-//The Service Club of Chicago - ECPv6.15.20//NONSGML v1.0//EN
CALSCALE:GREGORIAN
METHOD:PUBLISH
X-WR-CALNAME:The Service Club of Chicago
X-ORIGINAL-URL:https://theserviceclubofchicago.org
X-WR-CALDESC:Events for The Service Club of Chicago
REFRESH-INTERVAL;VALUE=DURATION:PT1H
X-Robots-Tag:noindex
X-PUBLISHED-TTL:PT1H
BEGIN:VTIMEZONE
TZID:UTC
BEGIN:STANDARD
TZOFFSETFROM:+0000
TZOFFSETTO:+0000
TZNAME:UTC
DTSTART:20170101T000000
END:STANDARD
END:VTIMEZONE
BEGIN:VEVENT
DTSTART;TZID=UTC:20181102T180000
DTEND;TZID=UTC:20181103T000000
DTSTAMP:20260422T185607
CREATED:20180213T094422Z
LAST-MODIFIED:20181030T023925Z
UID:786-1541181600-1541203200@theserviceclubofchicago.org
SUMMARY:2018 Annual Gala
DESCRIPTION:Co-Chairs: Sherrill Bodine\, Sally Jo Morris and Jamie Thorsen \nThe Service Club of Chicago hosts their annual black-tie Gala. This is always a “must” on the Fall calendar. The evening features cocktails\, dancing\, live and silent auctions – all raising money for a great cause. \n6:00 p.m. Cocktail hour\n7:30 p.m. Seating for dinner
URL:https://theserviceclubofchicago.org/event/2018-annual-gala/
LOCATION:The Four Seasons\, 120 E Delaware Pl\, Chicago\, IL\, 60611\, United States
CATEGORIES:Charity Event
ORGANIZER;CN="The Service Club of Chicago":MAILTO:info@serviceclubofchicago.org
END:VEVENT
END:VCALENDAR