BEGIN:VCALENDAR
VERSION:2.0
PRODID:-//The Service Club of Chicago - ECPv6.15.20//NONSGML v1.0//EN
CALSCALE:GREGORIAN
METHOD:PUBLISH
X-ORIGINAL-URL:https://theserviceclubofchicago.org
X-WR-CALDESC:Events for The Service Club of Chicago
REFRESH-INTERVAL;VALUE=DURATION:PT1H
X-Robots-Tag:noindex
X-PUBLISHED-TTL:PT1H
BEGIN:VTIMEZONE
TZID:America/Chicago
BEGIN:DAYLIGHT
TZOFFSETFROM:-0600
TZOFFSETTO:-0500
TZNAME:CDT
DTSTART:20190310T080000
END:DAYLIGHT
BEGIN:STANDARD
TZOFFSETFROM:-0500
TZOFFSETTO:-0600
TZNAME:CST
DTSTART:20191103T070000
END:STANDARD
BEGIN:DAYLIGHT
TZOFFSETFROM:-0600
TZOFFSETTO:-0500
TZNAME:CDT
DTSTART:20200308T080000
END:DAYLIGHT
BEGIN:STANDARD
TZOFFSETFROM:-0500
TZOFFSETTO:-0600
TZNAME:CST
DTSTART:20201101T070000
END:STANDARD
BEGIN:DAYLIGHT
TZOFFSETFROM:-0600
TZOFFSETTO:-0500
TZNAME:CDT
DTSTART:20210314T080000
END:DAYLIGHT
BEGIN:STANDARD
TZOFFSETFROM:-0500
TZOFFSETTO:-0600
TZNAME:CST
DTSTART:20211107T070000
END:STANDARD
END:VTIMEZONE
BEGIN:VEVENT
DTSTART;VALUE=DATE:20201012
DTEND;VALUE=DATE:20201023
DTSTAMP:20260425T211741
CREATED:20200920T193519Z
LAST-MODIFIED:20201010T022141Z
UID:11089-1602460800-1603411199@theserviceclubofchicago.org
SUMMARY:The Phantom Gala — Virtual Event
DESCRIPTION:THE PHANTOM GALA — our largest fundraiser of the year that helps to support our Philanthropic Grant Program for 2021 is upon us! We are honored to be the chairs this year\, and while it is not the Gala we originally envisioned\, we believe we have come up with a wonderful way to raise funds and make it easy for you! \nOur Gala will be a Virtual on-line Campaign officially running from October 12-22. This is not a broadcast you have to tune in for\, there are no tickets or tables – no need for a new dress or a new tux! But with very little overhead\, it has the potential to be just as successful as if we were in-person. \nAND — we will also be having a truly DELUXE  raffle — think of a Live Auction — but all you need is a raffle ticket! \nThe Service Club of Chicago has ALWAYS been there for organizations and agencies that look to us for help. It’s been a tough year for all of us — but we must remember it’s been tougher for the homeless\, or the abused\, or the handicapped. 2021 will be a year of great need\, and we owe it to our founders and their vision to make sure we answer the call! \nKristine Kinder\nMary Lasky\nMary Claire Moll\nTina Weller \nPhantom Gala Co-chairs \nRaffle Tickets/Event Platform   Donate   Donate a Custom Amount
URL:https://theserviceclubofchicago.org/event/the-phantom-gala-virtual-event/
LOCATION:Virtual Event\, IL
CATEGORIES:Charity Event
ATTACH;FMTTYPE=image/jpeg:https://theserviceclubofchicago.org/wp-content/uploads/2020/08/phantom-gala-image.jpg
ORGANIZER;CN="The Service Club of Chicago":MAILTO:info@serviceclubofchicago.org
END:VEVENT
END:VCALENDAR